BEGIN:VCALENDAR
VERSION:2.0
PRODID:-//Insurance Institute of South Florid - ECPv6.15.20//NONSGML v1.0//EN
CALSCALE:GREGORIAN
METHOD:PUBLISH
X-WR-CALNAME:Insurance Institute of South Florid
X-ORIGINAL-URL:https://insuranceinstituteofsouthflorida.com
X-WR-CALDESC:Events for Insurance Institute of South Florid
REFRESH-INTERVAL;VALUE=DURATION:PT1H
X-Robots-Tag:noindex
X-PUBLISHED-TTL:PT1H
BEGIN:VTIMEZONE
TZID:America/New_York
BEGIN:DAYLIGHT
TZOFFSETFROM:-0500
TZOFFSETTO:-0400
TZNAME:EDT
DTSTART:20240310T070000
END:DAYLIGHT
BEGIN:STANDARD
TZOFFSETFROM:-0400
TZOFFSETTO:-0500
TZNAME:EST
DTSTART:20241103T060000
END:STANDARD
BEGIN:DAYLIGHT
TZOFFSETFROM:-0500
TZOFFSETTO:-0400
TZNAME:EDT
DTSTART:20250309T070000
END:DAYLIGHT
BEGIN:STANDARD
TZOFFSETFROM:-0400
TZOFFSETTO:-0500
TZNAME:EST
DTSTART:20251102T060000
END:STANDARD
BEGIN:DAYLIGHT
TZOFFSETFROM:-0500
TZOFFSETTO:-0400
TZNAME:EDT
DTSTART:20260308T070000
END:DAYLIGHT
BEGIN:STANDARD
TZOFFSETFROM:-0400
TZOFFSETTO:-0500
TZNAME:EST
DTSTART:20261101T060000
END:STANDARD
BEGIN:DAYLIGHT
TZOFFSETFROM:-0500
TZOFFSETTO:-0400
TZNAME:EDT
DTSTART:20270314T070000
END:DAYLIGHT
BEGIN:STANDARD
TZOFFSETFROM:-0400
TZOFFSETTO:-0500
TZNAME:EST
DTSTART:20271107T060000
END:STANDARD
END:VTIMEZONE
BEGIN:VEVENT
DTSTART;TZID=America/New_York:20260412T090000
DTEND;TZID=America/New_York:20260412T180000
DTSTAMP:20260423T154806
CREATED:20260315T164228Z
LAST-MODIFIED:20260315T164228Z
UID:5484-1775984400-1776016800@insuranceinstituteofsouthflorida.com
SUMMARY:Course Life and Health
DESCRIPTION:
URL:https://insuranceinstituteofsouthflorida.com/course/course-life-and-health-83/
LOCATION:IISFL\, 8180 NW 36th St #201\, Miami\, FL\, 33166\, United States
CATEGORIES:Life and Health
ORGANIZER;CN="Maria Castillo":MAILTO:mariacastillo@iisfl.com
END:VEVENT
BEGIN:VEVENT
DTSTART;TZID=America/New_York:20260411T090000
DTEND;TZID=America/New_York:20260411T180000
DTSTAMP:20260423T154806
CREATED:20260315T163831Z
LAST-MODIFIED:20260315T163831Z
UID:5479-1775898000-1775930400@insuranceinstituteofsouthflorida.com
SUMMARY:Course Start Date Life and Health
DESCRIPTION:Pre-Registration Life and Health\nPlease enable JavaScript in your browser to complete this form.Name *FirstLastEmail *Phone *Custom Captcha *			\n				\n											\n						\n						\n											=\n				\n								\n				\n				\n			\n			Submit
URL:https://insuranceinstituteofsouthflorida.com/course/course-start-date-life-and-health-14/
LOCATION:IISFL\, 8180 NW 36th St #201\, Miami\, FL\, 33166\, United States
CATEGORIES:Life and Health
ORGANIZER;CN="Maria Castillo":MAILTO:mariacastillo@iisfl.com
END:VEVENT
BEGIN:VEVENT
DTSTART;TZID=America/New_York:20260315T090000
DTEND;TZID=America/New_York:20260315T180000
DTSTAMP:20260423T154807
CREATED:20260201T215748Z
LAST-MODIFIED:20260201T215748Z
UID:5473-1773565200-1773597600@insuranceinstituteofsouthflorida.com
SUMMARY:End Course Life and Health
DESCRIPTION:
URL:https://insuranceinstituteofsouthflorida.com/course/end-course-life-and-health-5/
LOCATION:IISFL\, 8180 NW 36th St #201\, Miami\, FL\, 33166\, United States
CATEGORIES:Life and Health
ORGANIZER;CN="Maria Castillo":MAILTO:mariacastillo@iisfl.com
END:VEVENT
BEGIN:VEVENT
DTSTART;TZID=America/New_York:20260314T090000
DTEND;TZID=America/New_York:20260314T180000
DTSTAMP:20260423T154807
CREATED:20260201T215707Z
LAST-MODIFIED:20260201T215707Z
UID:5471-1773478800-1773511200@insuranceinstituteofsouthflorida.com
SUMMARY:Course Life and Health
DESCRIPTION:
URL:https://insuranceinstituteofsouthflorida.com/course/course-life-and-health-82/
LOCATION:IISFL\, 8180 NW 36th St #201\, Miami\, FL\, 33166\, United States
CATEGORIES:Life and Health
ORGANIZER;CN="Maria Castillo":MAILTO:mariacastillo@iisfl.com
END:VEVENT
BEGIN:VEVENT
DTSTART;TZID=America/New_York:20260313T090000
DTEND;TZID=America/New_York:20260313T180000
DTSTAMP:20260423T154807
CREATED:20260201T215621Z
LAST-MODIFIED:20260201T215621Z
UID:5469-1773392400-1773424800@insuranceinstituteofsouthflorida.com
SUMMARY:Course Life and Health
DESCRIPTION:
URL:https://insuranceinstituteofsouthflorida.com/course/course-life-and-health-81/
LOCATION:IISFL\, 8180 NW 36th St #201\, Miami\, FL\, 33166\, United States
CATEGORIES:Life and Health
ORGANIZER;CN="Maria Castillo":MAILTO:mariacastillo@iisfl.com
END:VEVENT
BEGIN:VEVENT
DTSTART;TZID=America/New_York:20260308T080000
DTEND;TZID=America/New_York:20260308T170000
DTSTAMP:20260423T154807
CREATED:20260201T215533Z
LAST-MODIFIED:20260201T215533Z
UID:5467-1772956800-1772989200@insuranceinstituteofsouthflorida.com
SUMMARY:Course Life and Health
DESCRIPTION:
URL:https://insuranceinstituteofsouthflorida.com/course/course-life-and-health-80/
LOCATION:IISFL\, 8180 NW 36th St #201\, Miami\, FL\, 33166\, United States
CATEGORIES:Life and Health
ORGANIZER;CN="Maria Castillo":MAILTO:mariacastillo@iisfl.com
END:VEVENT
BEGIN:VEVENT
DTSTART;TZID=America/New_York:20260307T090000
DTEND;TZID=America/New_York:20260307T180000
DTSTAMP:20260423T154807
CREATED:20260201T215412Z
LAST-MODIFIED:20260201T215412Z
UID:5465-1772874000-1772906400@insuranceinstituteofsouthflorida.com
SUMMARY:Course Life and Health
DESCRIPTION:
URL:https://insuranceinstituteofsouthflorida.com/course/course-life-and-health-79/
LOCATION:IISFL\, 8180 NW 36th St #201\, Miami\, FL\, 33166\, United States
CATEGORIES:Life and Health
ORGANIZER;CN="Maria Castillo":MAILTO:mariacastillo@iisfl.com
END:VEVENT
BEGIN:VEVENT
DTSTART;TZID=America/New_York:20260306T090000
DTEND;TZID=America/New_York:20260306T180000
DTSTAMP:20260423T154807
CREATED:20260201T215249Z
LAST-MODIFIED:20260201T215249Z
UID:5463-1772787600-1772820000@insuranceinstituteofsouthflorida.com
SUMMARY:Course Life and Health
DESCRIPTION:
URL:https://insuranceinstituteofsouthflorida.com/course/course-life-and-health-78/
LOCATION:IISFL\, 8180 NW 36th St #201\, Miami\, FL\, 33166\, United States
CATEGORIES:Life and Health
ORGANIZER;CN="Maria Castillo":MAILTO:mariacastillo@iisfl.com
END:VEVENT
BEGIN:VEVENT
DTSTART;TZID=America/New_York:20260301T090000
DTEND;TZID=America/New_York:20260301T180000
DTSTAMP:20260423T154807
CREATED:20260201T215123Z
LAST-MODIFIED:20260201T215123Z
UID:5461-1772355600-1772388000@insuranceinstituteofsouthflorida.com
SUMMARY:Course Life and Health
DESCRIPTION:
URL:https://insuranceinstituteofsouthflorida.com/course/course-life-and-health-77/
LOCATION:IISFL\, 8180 NW 36th St #201\, Miami\, FL\, 33166\, United States
CATEGORIES:Life and Health
ORGANIZER;CN="Maria Castillo":MAILTO:mariacastillo@iisfl.com
END:VEVENT
BEGIN:VEVENT
DTSTART;TZID=America/New_York:20260228T090000
DTEND;TZID=America/New_York:20260228T180000
DTSTAMP:20260423T154807
CREATED:20260201T214944Z
LAST-MODIFIED:20260201T214944Z
UID:5458-1772269200-1772301600@insuranceinstituteofsouthflorida.com
SUMMARY:Course Start Date Life and Health
DESCRIPTION:Pre-Registration Life and Health\nPlease enable JavaScript in your browser to complete this form.Name *FirstLastEmail *Phone *Custom Captcha *			\n				\n											\n						\n						\n											=\n				\n								\n				\n				\n			\n			Submit
URL:https://insuranceinstituteofsouthflorida.com/course/course-start-date-life-and-health-13/
LOCATION:IISFL\, 8180 NW 36th St #201\, Miami\, FL\, 33166\, United States
CATEGORIES:Life and Health
ORGANIZER;CN="Maria Castillo":MAILTO:mariacastillo@iisfl.com
END:VEVENT
BEGIN:VEVENT
DTSTART;TZID=America/New_York:20260201T090000
DTEND;TZID=America/New_York:20260201T180000
DTSTAMP:20260423T154807
CREATED:20251113T015234Z
LAST-MODIFIED:20251113T015234Z
UID:5450-1769936400-1769968800@insuranceinstituteofsouthflorida.com
SUMMARY:End Course Life and Health
DESCRIPTION:
URL:https://insuranceinstituteofsouthflorida.com/course/end-course-life-and-health-4/
LOCATION:IISFL\, 8180 NW 36th St #201\, Miami\, FL\, 33166\, United States
CATEGORIES:Life and Health
ORGANIZER;CN="Maria Castillo":MAILTO:mariacastillo@iisfl.com
END:VEVENT
BEGIN:VEVENT
DTSTART;TZID=America/New_York:20260131T090000
DTEND;TZID=America/New_York:20260131T180000
DTSTAMP:20260423T154807
CREATED:20251113T015147Z
LAST-MODIFIED:20251113T015147Z
UID:5451-1769850000-1769882400@insuranceinstituteofsouthflorida.com
SUMMARY:Course Life and Health
DESCRIPTION:
URL:https://insuranceinstituteofsouthflorida.com/course/course-life-and-health-76/
LOCATION:IISFL\, 8180 NW 36th St #201\, Miami\, FL\, 33166\, United States
CATEGORIES:Life and Health
ORGANIZER;CN="Maria Castillo":MAILTO:mariacastillo@iisfl.com
END:VEVENT
BEGIN:VEVENT
DTSTART;TZID=America/New_York:20260130T090000
DTEND;TZID=America/New_York:20260130T180000
DTSTAMP:20260423T154807
CREATED:20250922T230546Z
LAST-MODIFIED:20251113T014958Z
UID:5424-1769763600-1769796000@insuranceinstituteofsouthflorida.com
SUMMARY:Course Life and Health
DESCRIPTION:
URL:https://insuranceinstituteofsouthflorida.com/course/course-life-and-health-66/
LOCATION:IISFL\, 8180 NW 36th St #201\, Miami\, FL\, 33166\, United States
CATEGORIES:Life and Health
ORGANIZER;CN="Maria Castillo":MAILTO:mariacastillo@iisfl.com
END:VEVENT
BEGIN:VEVENT
DTSTART;TZID=America/New_York:20260125T090000
DTEND;TZID=America/New_York:20260125T180000
DTSTAMP:20260423T154807
CREATED:20251113T014905Z
LAST-MODIFIED:20251113T014905Z
UID:5448-1769331600-1769364000@insuranceinstituteofsouthflorida.com
SUMMARY:Course Life and Health
DESCRIPTION:
URL:https://insuranceinstituteofsouthflorida.com/course/course-life-and-health-75/
LOCATION:IISFL\, 8180 NW 36th St #201\, Miami\, FL\, 33166\, United States
CATEGORIES:Life and Health
ORGANIZER;CN="Maria Castillo":MAILTO:mariacastillo@iisfl.com
END:VEVENT
BEGIN:VEVENT
DTSTART;TZID=America/New_York:20260124T090000
DTEND;TZID=America/New_York:20260124T180000
DTSTAMP:20260423T154807
CREATED:20251113T014825Z
LAST-MODIFIED:20251113T014825Z
UID:5446-1769245200-1769277600@insuranceinstituteofsouthflorida.com
SUMMARY:Course Life and Health
DESCRIPTION:
URL:https://insuranceinstituteofsouthflorida.com/course/course-life-and-health-74/
LOCATION:IISFL\, 8180 NW 36th St #201\, Miami\, FL\, 33166\, United States
CATEGORIES:Life and Health
ORGANIZER;CN="Maria Castillo":MAILTO:mariacastillo@iisfl.com
END:VEVENT
BEGIN:VEVENT
DTSTART;TZID=America/New_York:20260123T090000
DTEND;TZID=America/New_York:20260123T180000
DTSTAMP:20260423T154807
CREATED:20251113T014704Z
LAST-MODIFIED:20251113T014704Z
UID:5444-1769158800-1769191200@insuranceinstituteofsouthflorida.com
SUMMARY:Course Life and Health
DESCRIPTION:
URL:https://insuranceinstituteofsouthflorida.com/course/course-life-and-health-73/
LOCATION:IISFL\, 8180 NW 36th St #201\, Miami\, FL\, 33166\, United States
CATEGORIES:Life and Health
ORGANIZER;CN="Maria Castillo":MAILTO:mariacastillo@iisfl.com
END:VEVENT
BEGIN:VEVENT
DTSTART;TZID=America/New_York:20260118T090000
DTEND;TZID=America/New_York:20260118T180000
DTSTAMP:20260423T154807
CREATED:20251113T014451Z
LAST-MODIFIED:20251113T014451Z
UID:5442-1768726800-1768759200@insuranceinstituteofsouthflorida.com
SUMMARY:Course Life and Health
DESCRIPTION:
URL:https://insuranceinstituteofsouthflorida.com/course/course-life-and-health-72/
LOCATION:IISFL\, 8180 NW 36th St #201\, Miami\, FL\, 33166\, United States
CATEGORIES:Life and Health
ORGANIZER;CN="Maria Castillo":MAILTO:mariacastillo@iisfl.com
END:VEVENT
BEGIN:VEVENT
DTSTART;TZID=America/New_York:20260117T090000
DTEND;TZID=America/New_York:20260117T180000
DTSTAMP:20260423T154807
CREATED:20251113T014315Z
LAST-MODIFIED:20251113T014315Z
UID:5440-1768640400-1768672800@insuranceinstituteofsouthflorida.com
SUMMARY:Course Start Date Life and Health
DESCRIPTION:Pre-Registration Life and Health\nPlease enable JavaScript in your browser to complete this form.Name *FirstLastEmail *Phone *Custom Captcha *			\n				\n											\n						\n						\n											=\n				\n								\n				\n				\n			\n			Submit
URL:https://insuranceinstituteofsouthflorida.com/course/course-start-date-life-and-health-12/
LOCATION:IISFL\, 8180 NW 36th St #201\, Miami\, FL\, 33166\, United States
CATEGORIES:Life and Health
ORGANIZER;CN="Maria Castillo":MAILTO:mariacastillo@iisfl.com
END:VEVENT
BEGIN:VEVENT
DTSTART;TZID=America/New_York:20251019T090000
DTEND;TZID=America/New_York:20251019T180000
DTSTAMP:20260423T154807
CREATED:20250922T231019Z
LAST-MODIFIED:20250922T231019Z
UID:5436-1760864400-1760896800@insuranceinstituteofsouthflorida.com
SUMMARY:End Course Life and Health
DESCRIPTION:
URL:https://insuranceinstituteofsouthflorida.com/course/end-course-life-and-health-3/
LOCATION:IISFL\, 8180 NW 36th St #201\, Miami\, FL\, 33166\, United States
CATEGORIES:Life and Health
ORGANIZER;CN="Maria Castillo":MAILTO:mariacastillo@iisfl.com
END:VEVENT
BEGIN:VEVENT
DTSTART;TZID=America/New_York:20251018T090000
DTEND;TZID=America/New_York:20251018T180000
DTSTAMP:20260423T154807
CREATED:20250922T230934Z
LAST-MODIFIED:20250922T230934Z
UID:5434-1760778000-1760810400@insuranceinstituteofsouthflorida.com
SUMMARY:Course Life and Health
DESCRIPTION:
URL:https://insuranceinstituteofsouthflorida.com/course/course-life-and-health-71/
LOCATION:IISFL\, 8180 NW 36th St #201\, Miami\, FL\, 33166\, United States
CATEGORIES:Life and Health
ORGANIZER;CN="Maria Castillo":MAILTO:mariacastillo@iisfl.com
END:VEVENT
BEGIN:VEVENT
DTSTART;TZID=America/New_York:20251017T090000
DTEND;TZID=America/New_York:20251017T180000
DTSTAMP:20260423T154807
CREATED:20250922T230846Z
LAST-MODIFIED:20250922T230846Z
UID:5432-1760691600-1760724000@insuranceinstituteofsouthflorida.com
SUMMARY:Course Life and Health
DESCRIPTION:
URL:https://insuranceinstituteofsouthflorida.com/course/course-life-and-health-70/
LOCATION:IISFL\, 8180 NW 36th St #201\, Miami\, FL\, 33166\, United States
CATEGORIES:Life and Health
ORGANIZER;CN="Maria Castillo":MAILTO:mariacastillo@iisfl.com
END:VEVENT
BEGIN:VEVENT
DTSTART;TZID=America/New_York:20251012T080000
DTEND;TZID=America/New_York:20251012T170000
DTSTAMP:20260423T154807
CREATED:20250922T230747Z
LAST-MODIFIED:20250922T230747Z
UID:5430-1760256000-1760288400@insuranceinstituteofsouthflorida.com
SUMMARY:Course Life and Health
DESCRIPTION:
URL:https://insuranceinstituteofsouthflorida.com/course/course-life-and-health-69/
LOCATION:IISFL\, 8180 NW 36th St #201\, Miami\, FL\, 33166\, United States
CATEGORIES:Life and Health
ORGANIZER;CN="Maria Castillo":MAILTO:mariacastillo@iisfl.com
END:VEVENT
BEGIN:VEVENT
DTSTART;TZID=America/New_York:20251011T090000
DTEND;TZID=America/New_York:20251011T180000
DTSTAMP:20260423T154807
CREATED:20250922T230702Z
LAST-MODIFIED:20250922T230702Z
UID:5428-1760173200-1760205600@insuranceinstituteofsouthflorida.com
SUMMARY:Course Life and Health
DESCRIPTION:
URL:https://insuranceinstituteofsouthflorida.com/course/course-life-and-health-68/
LOCATION:IISFL\, 8180 NW 36th St #201\, Miami\, FL\, 33166\, United States
CATEGORIES:Life and Health
ORGANIZER;CN="Maria Castillo":MAILTO:mariacastillo@iisfl.com
END:VEVENT
BEGIN:VEVENT
DTSTART;TZID=America/New_York:20251010T090000
DTEND;TZID=America/New_York:20251010T180000
DTSTAMP:20260423T154807
CREATED:20250922T230626Z
LAST-MODIFIED:20250922T230626Z
UID:5426-1760086800-1760119200@insuranceinstituteofsouthflorida.com
SUMMARY:Course Life and Health
DESCRIPTION:
URL:https://insuranceinstituteofsouthflorida.com/course/course-life-and-health-67/
LOCATION:IISFL\, 8180 NW 36th St #201\, Miami\, FL\, 33166\, United States
CATEGORIES:Life and Health
ORGANIZER;CN="Maria Castillo":MAILTO:mariacastillo@iisfl.com
END:VEVENT
BEGIN:VEVENT
DTSTART;TZID=America/New_York:20251004T090000
DTEND;TZID=America/New_York:20251004T180000
DTSTAMP:20260423T154807
CREATED:20250922T230134Z
LAST-MODIFIED:20250922T230445Z
UID:5416-1759568400-1759600800@insuranceinstituteofsouthflorida.com
SUMMARY:Course Start Date Life and Health
DESCRIPTION:Pre-Registration Life and Health\nPlease enable JavaScript in your browser to complete this form.Name *FirstLastEmail *Phone *Custom Captcha *			\n				\n											\n						\n						\n											=\n				\n								\n				\n				\n			\n			Submit
URL:https://insuranceinstituteofsouthflorida.com/course/course-start-date-life-and-health-11/
LOCATION:IISFL\, 8180 NW 36th St #201\, Miami\, FL\, 33166\, United States
CATEGORIES:Life and Health
ORGANIZER;CN="Maria Castillo":MAILTO:mariacastillo@iisfl.com
END:VEVENT
BEGIN:VEVENT
DTSTART;TZID=America/New_York:20250914T080000
DTEND;TZID=America/New_York:20250914T170000
DTSTAMP:20260423T154807
CREATED:20250805T023605Z
LAST-MODIFIED:20250805T023643Z
UID:5412-1757836800-1757869200@insuranceinstituteofsouthflorida.com
SUMMARY:End Course Life and Health
DESCRIPTION:
URL:https://insuranceinstituteofsouthflorida.com/course/end-course-life-and-health-2/
LOCATION:IISFL\, 8180 NW 36th St #201\, Miami\, FL\, 33166\, United States
CATEGORIES:Life and Health
ORGANIZER;CN="Maria Castillo":MAILTO:mariacastillo@iisfl.com
END:VEVENT
BEGIN:VEVENT
DTSTART;TZID=America/New_York:20250913T090000
DTEND;TZID=America/New_York:20250913T180000
DTSTAMP:20260423T154807
CREATED:20250805T022713Z
LAST-MODIFIED:20250805T023505Z
UID:5410-1757754000-1757786400@insuranceinstituteofsouthflorida.com
SUMMARY:Course Life and Health
DESCRIPTION:
URL:https://insuranceinstituteofsouthflorida.com/course/course-life-and-health-65/
LOCATION:IISFL\, 8180 NW 36th St #201\, Miami\, FL\, 33166\, United States
CATEGORIES:Life and Health
ORGANIZER;CN="Maria Castillo":MAILTO:mariacastillo@iisfl.com
END:VEVENT
BEGIN:VEVENT
DTSTART;TZID=America/New_York:20250907T090000
DTEND;TZID=America/New_York:20250907T180000
DTSTAMP:20260423T154807
CREATED:20250805T022559Z
LAST-MODIFIED:20250805T022614Z
UID:5408-1757235600-1757268000@insuranceinstituteofsouthflorida.com
SUMMARY:Course Life and Health
DESCRIPTION:
URL:https://insuranceinstituteofsouthflorida.com/course/course-life-and-health-64/
LOCATION:IISFL\, 8180 NW 36th St #201\, Miami\, FL\, 33166\, United States
CATEGORIES:Life and Health
ORGANIZER;CN="Maria Castillo":MAILTO:mariacastillo@iisfl.com
END:VEVENT
BEGIN:VEVENT
DTSTART;TZID=America/New_York:20250906T090000
DTEND;TZID=America/New_York:20250906T180000
DTSTAMP:20260423T154807
CREATED:20250805T022349Z
LAST-MODIFIED:20250805T022504Z
UID:5406-1757149200-1757181600@insuranceinstituteofsouthflorida.com
SUMMARY:Course Life and Health
DESCRIPTION:
URL:https://insuranceinstituteofsouthflorida.com/course/course-life-and-health-63/
LOCATION:IISFL\, 8180 NW 36th St #201\, Miami\, FL\, 33166\, United States
CATEGORIES:Life and Health
ORGANIZER;CN="Maria Castillo":MAILTO:mariacastillo@iisfl.com
END:VEVENT
BEGIN:VEVENT
DTSTART;TZID=America/New_York:20250905T090000
DTEND;TZID=America/New_York:20250905T180000
DTSTAMP:20260423T154807
CREATED:20250805T021945Z
LAST-MODIFIED:20250805T021957Z
UID:5404-1757062800-1757095200@insuranceinstituteofsouthflorida.com
SUMMARY:Course Life and Health
DESCRIPTION:
URL:https://insuranceinstituteofsouthflorida.com/course/course-life-and-health-62/
LOCATION:IISFL\, 8180 NW 36th St #201\, Miami\, FL\, 33166\, United States
CATEGORIES:Life and Health
ORGANIZER;CN="Maria Castillo":MAILTO:mariacastillo@iisfl.com
END:VEVENT
END:VCALENDAR