BEGIN:VCALENDAR
VERSION:2.0
PRODID:-//Insurance Institute of South Florid - ECPv6.15.20//NONSGML v1.0//EN
CALSCALE:GREGORIAN
METHOD:PUBLISH
X-ORIGINAL-URL:https://insuranceinstituteofsouthflorida.com
X-WR-CALDESC:Events for Insurance Institute of South Florid
REFRESH-INTERVAL;VALUE=DURATION:PT1H
X-Robots-Tag:noindex
X-PUBLISHED-TTL:PT1H
BEGIN:VTIMEZONE
TZID:America/New_York
BEGIN:DAYLIGHT
TZOFFSETFROM:-0500
TZOFFSETTO:-0400
TZNAME:EDT
DTSTART:20250309T070000
END:DAYLIGHT
BEGIN:STANDARD
TZOFFSETFROM:-0400
TZOFFSETTO:-0500
TZNAME:EST
DTSTART:20251102T060000
END:STANDARD
BEGIN:DAYLIGHT
TZOFFSETFROM:-0500
TZOFFSETTO:-0400
TZNAME:EDT
DTSTART:20260308T070000
END:DAYLIGHT
BEGIN:STANDARD
TZOFFSETFROM:-0400
TZOFFSETTO:-0500
TZNAME:EST
DTSTART:20261101T060000
END:STANDARD
BEGIN:DAYLIGHT
TZOFFSETFROM:-0500
TZOFFSETTO:-0400
TZNAME:EDT
DTSTART:20270314T070000
END:DAYLIGHT
BEGIN:STANDARD
TZOFFSETFROM:-0400
TZOFFSETTO:-0500
TZNAME:EST
DTSTART:20271107T060000
END:STANDARD
END:VTIMEZONE
BEGIN:VEVENT
DTSTART;TZID=America/New_York:20260301T090000
DTEND;TZID=America/New_York:20260301T180000
DTSTAMP:20260423T140724
CREATED:20260201T215123Z
LAST-MODIFIED:20260201T215123Z
UID:5461-1772355600-1772388000@insuranceinstituteofsouthflorida.com
SUMMARY:Course Life and Health
DESCRIPTION:
URL:https://insuranceinstituteofsouthflorida.com/course/course-life-and-health-77/
LOCATION:IISFL\, 8180 NW 36th St #201\, Miami\, FL\, 33166\, United States
CATEGORIES:Life and Health
ORGANIZER;CN="Maria Castillo":MAILTO:mariacastillo@iisfl.com
END:VEVENT
BEGIN:VEVENT
DTSTART;TZID=America/New_York:20260306T090000
DTEND;TZID=America/New_York:20260306T180000
DTSTAMP:20260423T140724
CREATED:20260201T215249Z
LAST-MODIFIED:20260201T215249Z
UID:5463-1772787600-1772820000@insuranceinstituteofsouthflorida.com
SUMMARY:Course Life and Health
DESCRIPTION:
URL:https://insuranceinstituteofsouthflorida.com/course/course-life-and-health-78/
LOCATION:IISFL\, 8180 NW 36th St #201\, Miami\, FL\, 33166\, United States
CATEGORIES:Life and Health
ORGANIZER;CN="Maria Castillo":MAILTO:mariacastillo@iisfl.com
END:VEVENT
BEGIN:VEVENT
DTSTART;TZID=America/New_York:20260307T090000
DTEND;TZID=America/New_York:20260307T180000
DTSTAMP:20260423T140724
CREATED:20260201T215412Z
LAST-MODIFIED:20260201T215412Z
UID:5465-1772874000-1772906400@insuranceinstituteofsouthflorida.com
SUMMARY:Course Life and Health
DESCRIPTION:
URL:https://insuranceinstituteofsouthflorida.com/course/course-life-and-health-79/
LOCATION:IISFL\, 8180 NW 36th St #201\, Miami\, FL\, 33166\, United States
CATEGORIES:Life and Health
ORGANIZER;CN="Maria Castillo":MAILTO:mariacastillo@iisfl.com
END:VEVENT
BEGIN:VEVENT
DTSTART;TZID=America/New_York:20260308T080000
DTEND;TZID=America/New_York:20260308T170000
DTSTAMP:20260423T140724
CREATED:20260201T215533Z
LAST-MODIFIED:20260201T215533Z
UID:5467-1772956800-1772989200@insuranceinstituteofsouthflorida.com
SUMMARY:Course Life and Health
DESCRIPTION:
URL:https://insuranceinstituteofsouthflorida.com/course/course-life-and-health-80/
LOCATION:IISFL\, 8180 NW 36th St #201\, Miami\, FL\, 33166\, United States
CATEGORIES:Life and Health
ORGANIZER;CN="Maria Castillo":MAILTO:mariacastillo@iisfl.com
END:VEVENT
BEGIN:VEVENT
DTSTART;TZID=America/New_York:20260313T090000
DTEND;TZID=America/New_York:20260313T180000
DTSTAMP:20260423T140724
CREATED:20260201T215621Z
LAST-MODIFIED:20260201T215621Z
UID:5469-1773392400-1773424800@insuranceinstituteofsouthflorida.com
SUMMARY:Course Life and Health
DESCRIPTION:
URL:https://insuranceinstituteofsouthflorida.com/course/course-life-and-health-81/
LOCATION:IISFL\, 8180 NW 36th St #201\, Miami\, FL\, 33166\, United States
CATEGORIES:Life and Health
ORGANIZER;CN="Maria Castillo":MAILTO:mariacastillo@iisfl.com
END:VEVENT
BEGIN:VEVENT
DTSTART;TZID=America/New_York:20260314T090000
DTEND;TZID=America/New_York:20260314T180000
DTSTAMP:20260423T140724
CREATED:20260201T215707Z
LAST-MODIFIED:20260201T215707Z
UID:5471-1773478800-1773511200@insuranceinstituteofsouthflorida.com
SUMMARY:Course Life and Health
DESCRIPTION:
URL:https://insuranceinstituteofsouthflorida.com/course/course-life-and-health-82/
LOCATION:IISFL\, 8180 NW 36th St #201\, Miami\, FL\, 33166\, United States
CATEGORIES:Life and Health
ORGANIZER;CN="Maria Castillo":MAILTO:mariacastillo@iisfl.com
END:VEVENT
BEGIN:VEVENT
DTSTART;TZID=America/New_York:20260315T090000
DTEND;TZID=America/New_York:20260315T180000
DTSTAMP:20260423T140724
CREATED:20260201T215748Z
LAST-MODIFIED:20260201T215748Z
UID:5473-1773565200-1773597600@insuranceinstituteofsouthflorida.com
SUMMARY:End Course Life and Health
DESCRIPTION:
URL:https://insuranceinstituteofsouthflorida.com/course/end-course-life-and-health-5/
LOCATION:IISFL\, 8180 NW 36th St #201\, Miami\, FL\, 33166\, United States
CATEGORIES:Life and Health
ORGANIZER;CN="Maria Castillo":MAILTO:mariacastillo@iisfl.com
END:VEVENT
END:VCALENDAR