BEGIN:VCALENDAR
VERSION:2.0
PRODID:-//Insurance Institute of South Florid - ECPv6.15.20//NONSGML v1.0//EN
CALSCALE:GREGORIAN
METHOD:PUBLISH
X-ORIGINAL-URL:https://insuranceinstituteofsouthflorida.com
X-WR-CALDESC:Events for Insurance Institute of South Florid
REFRESH-INTERVAL;VALUE=DURATION:PT1H
X-Robots-Tag:noindex
X-PUBLISHED-TTL:PT1H
BEGIN:VTIMEZONE
TZID:America/New_York
BEGIN:DAYLIGHT
TZOFFSETFROM:-0500
TZOFFSETTO:-0400
TZNAME:EDT
DTSTART:20240310T070000
END:DAYLIGHT
BEGIN:STANDARD
TZOFFSETFROM:-0400
TZOFFSETTO:-0500
TZNAME:EST
DTSTART:20241103T060000
END:STANDARD
BEGIN:DAYLIGHT
TZOFFSETFROM:-0500
TZOFFSETTO:-0400
TZNAME:EDT
DTSTART:20250309T070000
END:DAYLIGHT
BEGIN:STANDARD
TZOFFSETFROM:-0400
TZOFFSETTO:-0500
TZNAME:EST
DTSTART:20251102T060000
END:STANDARD
BEGIN:DAYLIGHT
TZOFFSETFROM:-0500
TZOFFSETTO:-0400
TZNAME:EDT
DTSTART:20260308T070000
END:DAYLIGHT
BEGIN:STANDARD
TZOFFSETFROM:-0400
TZOFFSETTO:-0500
TZNAME:EST
DTSTART:20261101T060000
END:STANDARD
END:VTIMEZONE
BEGIN:VEVENT
DTSTART;TZID=America/New_York:20251004T090000
DTEND;TZID=America/New_York:20251004T180000
DTSTAMP:20260423T215704
CREATED:20250922T230134Z
LAST-MODIFIED:20250922T230445Z
UID:5416-1759568400-1759600800@insuranceinstituteofsouthflorida.com
SUMMARY:Course Start Date Life and Health
DESCRIPTION:Pre-Registration Life and Health\nPlease enable JavaScript in your browser to complete this form.Name *FirstLastEmail *Phone *Custom Captcha *			\n				\n											\n						\n						\n											=\n				\n								\n				\n				\n			\n			Submit
URL:https://insuranceinstituteofsouthflorida.com/course/course-start-date-life-and-health-11/
LOCATION:IISFL\, 8180 NW 36th St #201\, Miami\, FL\, 33166\, United States
CATEGORIES:Life and Health
ORGANIZER;CN="Maria Castillo":MAILTO:mariacastillo@iisfl.com
END:VEVENT
BEGIN:VEVENT
DTSTART;TZID=America/New_York:20251010T090000
DTEND;TZID=America/New_York:20251010T180000
DTSTAMP:20260423T215704
CREATED:20250922T230626Z
LAST-MODIFIED:20250922T230626Z
UID:5426-1760086800-1760119200@insuranceinstituteofsouthflorida.com
SUMMARY:Course Life and Health
DESCRIPTION:
URL:https://insuranceinstituteofsouthflorida.com/course/course-life-and-health-67/
LOCATION:IISFL\, 8180 NW 36th St #201\, Miami\, FL\, 33166\, United States
CATEGORIES:Life and Health
ORGANIZER;CN="Maria Castillo":MAILTO:mariacastillo@iisfl.com
END:VEVENT
BEGIN:VEVENT
DTSTART;TZID=America/New_York:20251011T090000
DTEND;TZID=America/New_York:20251011T180000
DTSTAMP:20260423T215704
CREATED:20250922T230702Z
LAST-MODIFIED:20250922T230702Z
UID:5428-1760173200-1760205600@insuranceinstituteofsouthflorida.com
SUMMARY:Course Life and Health
DESCRIPTION:
URL:https://insuranceinstituteofsouthflorida.com/course/course-life-and-health-68/
LOCATION:IISFL\, 8180 NW 36th St #201\, Miami\, FL\, 33166\, United States
CATEGORIES:Life and Health
ORGANIZER;CN="Maria Castillo":MAILTO:mariacastillo@iisfl.com
END:VEVENT
BEGIN:VEVENT
DTSTART;TZID=America/New_York:20251012T080000
DTEND;TZID=America/New_York:20251012T170000
DTSTAMP:20260423T215704
CREATED:20250922T230747Z
LAST-MODIFIED:20250922T230747Z
UID:5430-1760256000-1760288400@insuranceinstituteofsouthflorida.com
SUMMARY:Course Life and Health
DESCRIPTION:
URL:https://insuranceinstituteofsouthflorida.com/course/course-life-and-health-69/
LOCATION:IISFL\, 8180 NW 36th St #201\, Miami\, FL\, 33166\, United States
CATEGORIES:Life and Health
ORGANIZER;CN="Maria Castillo":MAILTO:mariacastillo@iisfl.com
END:VEVENT
BEGIN:VEVENT
DTSTART;TZID=America/New_York:20251017T090000
DTEND;TZID=America/New_York:20251017T180000
DTSTAMP:20260423T215704
CREATED:20250922T230846Z
LAST-MODIFIED:20250922T230846Z
UID:5432-1760691600-1760724000@insuranceinstituteofsouthflorida.com
SUMMARY:Course Life and Health
DESCRIPTION:
URL:https://insuranceinstituteofsouthflorida.com/course/course-life-and-health-70/
LOCATION:IISFL\, 8180 NW 36th St #201\, Miami\, FL\, 33166\, United States
CATEGORIES:Life and Health
ORGANIZER;CN="Maria Castillo":MAILTO:mariacastillo@iisfl.com
END:VEVENT
BEGIN:VEVENT
DTSTART;TZID=America/New_York:20251018T090000
DTEND;TZID=America/New_York:20251018T180000
DTSTAMP:20260423T215704
CREATED:20250922T230934Z
LAST-MODIFIED:20250922T230934Z
UID:5434-1760778000-1760810400@insuranceinstituteofsouthflorida.com
SUMMARY:Course Life and Health
DESCRIPTION:
URL:https://insuranceinstituteofsouthflorida.com/course/course-life-and-health-71/
LOCATION:IISFL\, 8180 NW 36th St #201\, Miami\, FL\, 33166\, United States
CATEGORIES:Life and Health
ORGANIZER;CN="Maria Castillo":MAILTO:mariacastillo@iisfl.com
END:VEVENT
BEGIN:VEVENT
DTSTART;TZID=America/New_York:20251019T090000
DTEND;TZID=America/New_York:20251019T180000
DTSTAMP:20260423T215704
CREATED:20250922T231019Z
LAST-MODIFIED:20250922T231019Z
UID:5436-1760864400-1760896800@insuranceinstituteofsouthflorida.com
SUMMARY:End Course Life and Health
DESCRIPTION:
URL:https://insuranceinstituteofsouthflorida.com/course/end-course-life-and-health-3/
LOCATION:IISFL\, 8180 NW 36th St #201\, Miami\, FL\, 33166\, United States
CATEGORIES:Life and Health
ORGANIZER;CN="Maria Castillo":MAILTO:mariacastillo@iisfl.com
END:VEVENT
END:VCALENDAR