BEGIN:VCALENDAR
VERSION:2.0
PRODID:-//Insurance Institute of South Florid - ECPv6.15.20//NONSGML v1.0//EN
CALSCALE:GREGORIAN
METHOD:PUBLISH
X-ORIGINAL-URL:https://insuranceinstituteofsouthflorida.com
X-WR-CALDESC:Events for Insurance Institute of South Florid
REFRESH-INTERVAL;VALUE=DURATION:PT1H
X-Robots-Tag:noindex
X-PUBLISHED-TTL:PT1H
BEGIN:VTIMEZONE
TZID:America/New_York
BEGIN:DAYLIGHT
TZOFFSETFROM:-0500
TZOFFSETTO:-0400
TZNAME:EDT
DTSTART:20240310T070000
END:DAYLIGHT
BEGIN:STANDARD
TZOFFSETFROM:-0400
TZOFFSETTO:-0500
TZNAME:EST
DTSTART:20241103T060000
END:STANDARD
BEGIN:DAYLIGHT
TZOFFSETFROM:-0500
TZOFFSETTO:-0400
TZNAME:EDT
DTSTART:20250309T070000
END:DAYLIGHT
BEGIN:STANDARD
TZOFFSETFROM:-0400
TZOFFSETTO:-0500
TZNAME:EST
DTSTART:20251102T060000
END:STANDARD
BEGIN:DAYLIGHT
TZOFFSETFROM:-0500
TZOFFSETTO:-0400
TZNAME:EDT
DTSTART:20260308T070000
END:DAYLIGHT
BEGIN:STANDARD
TZOFFSETFROM:-0400
TZOFFSETTO:-0500
TZNAME:EST
DTSTART:20261101T060000
END:STANDARD
END:VTIMEZONE
BEGIN:VEVENT
DTSTART;TZID=America/New_York:20250419T090000
DTEND;TZID=America/New_York:20250419T180000
DTSTAMP:20260424T063533
CREATED:20250323T145406Z
LAST-MODIFIED:20250323T145850Z
UID:5326-1745053200-1745085600@insuranceinstituteofsouthflorida.com
SUMMARY:Course Start Date Life and Health
DESCRIPTION:Pre-Registration Life and Health\nPlease enable JavaScript in your browser to complete this form.Name *FirstLastEmail *Phone *Custom Captcha *			\n				\n											\n						\n						\n											=\n				\n								\n				\n				\n			\n			Submit
URL:https://insuranceinstituteofsouthflorida.com/course/course-start-date-life-and-health-7/
LOCATION:IISFL\, 8180 NW 36th St #201\, Miami\, FL\, 33166\, United States
CATEGORIES:Life and Health
ORGANIZER;CN="Maria Castillo":MAILTO:mariacastillo@iisfl.com
END:VEVENT
BEGIN:VEVENT
DTSTART;TZID=America/New_York:20250420T090000
DTEND;TZID=America/New_York:20250420T180000
DTSTAMP:20260424T063533
CREATED:20250323T150052Z
LAST-MODIFIED:20250323T150052Z
UID:5334-1745139600-1745172000@insuranceinstituteofsouthflorida.com
SUMMARY:Course Life and Health
DESCRIPTION:
URL:https://insuranceinstituteofsouthflorida.com/course/course-life-and-health-42/
LOCATION:IISFL\, 8180 NW 36th St #201\, Miami\, FL\, 33166\, United States
CATEGORIES:Life and Health
ORGANIZER;CN="Maria Castillo":MAILTO:mariacastillo@iisfl.com
END:VEVENT
BEGIN:VEVENT
DTSTART;TZID=America/New_York:20250425T090000
DTEND;TZID=America/New_York:20250425T180000
DTSTAMP:20260424T063533
CREATED:20250323T150256Z
LAST-MODIFIED:20250323T150432Z
UID:5337-1745571600-1745604000@insuranceinstituteofsouthflorida.com
SUMMARY:Course Life and Health
DESCRIPTION:
URL:https://insuranceinstituteofsouthflorida.com/course/course-life-and-health-43/
LOCATION:IISFL\, 8180 NW 36th St #201\, Miami\, FL\, 33166\, United States
CATEGORIES:Life and Health
ORGANIZER;CN="Maria Castillo":MAILTO:mariacastillo@iisfl.com
END:VEVENT
BEGIN:VEVENT
DTSTART;TZID=America/New_York:20250426T090000
DTEND;TZID=America/New_York:20250426T180000
DTSTAMP:20260424T063533
CREATED:20250323T150525Z
LAST-MODIFIED:20250323T150707Z
UID:5339-1745658000-1745690400@insuranceinstituteofsouthflorida.com
SUMMARY:Course Life and Health
DESCRIPTION:
URL:https://insuranceinstituteofsouthflorida.com/course/course-life-and-health-44/
LOCATION:IISFL\, 8180 NW 36th St #201\, Miami\, FL\, 33166\, United States
CATEGORIES:Life and Health
ORGANIZER;CN="Maria Castillo":MAILTO:mariacastillo@iisfl.com
END:VEVENT
BEGIN:VEVENT
DTSTART;TZID=America/New_York:20250427T090000
DTEND;TZID=America/New_York:20250427T180000
DTSTAMP:20260424T063533
CREATED:20250323T150819Z
LAST-MODIFIED:20250323T150819Z
UID:5342-1745744400-1745776800@insuranceinstituteofsouthflorida.com
SUMMARY:Course Life and Health
DESCRIPTION:
URL:https://insuranceinstituteofsouthflorida.com/course/course-life-and-health-45/
LOCATION:IISFL\, 8180 NW 36th St #201\, Miami\, FL\, 33166\, United States
CATEGORIES:Life and Health
ORGANIZER;CN="Maria Castillo":MAILTO:mariacastillo@iisfl.com
END:VEVENT
END:VCALENDAR