BEGIN:VCALENDAR
VERSION:2.0
PRODID:-//Insurance Institute of South Florid - ECPv6.15.20//NONSGML v1.0//EN
CALSCALE:GREGORIAN
METHOD:PUBLISH
X-ORIGINAL-URL:https://insuranceinstituteofsouthflorida.com
X-WR-CALDESC:Events for Insurance Institute of South Florid
REFRESH-INTERVAL;VALUE=DURATION:PT1H
X-Robots-Tag:noindex
X-PUBLISHED-TTL:PT1H
BEGIN:VTIMEZONE
TZID:America/New_York
BEGIN:DAYLIGHT
TZOFFSETFROM:-0500
TZOFFSETTO:-0400
TZNAME:EDT
DTSTART:20240310T070000
END:DAYLIGHT
BEGIN:STANDARD
TZOFFSETFROM:-0400
TZOFFSETTO:-0500
TZNAME:EST
DTSTART:20241103T060000
END:STANDARD
BEGIN:DAYLIGHT
TZOFFSETFROM:-0500
TZOFFSETTO:-0400
TZNAME:EDT
DTSTART:20250309T070000
END:DAYLIGHT
BEGIN:STANDARD
TZOFFSETFROM:-0400
TZOFFSETTO:-0500
TZNAME:EST
DTSTART:20251102T060000
END:STANDARD
BEGIN:DAYLIGHT
TZOFFSETFROM:-0500
TZOFFSETTO:-0400
TZNAME:EDT
DTSTART:20260308T070000
END:DAYLIGHT
BEGIN:STANDARD
TZOFFSETFROM:-0400
TZOFFSETTO:-0500
TZNAME:EST
DTSTART:20261101T060000
END:STANDARD
END:VTIMEZONE
BEGIN:VEVENT
DTSTART;TZID=America/New_York:20250201T090000
DTEND;TZID=America/New_York:20250201T180000
DTSTAMP:20260424T092842
CREATED:20241210T012552Z
LAST-MODIFIED:20241210T012812Z
UID:5299-1738400400-1738432800@insuranceinstituteofsouthflorida.com
SUMMARY:Course Life and Health
DESCRIPTION:
URL:https://insuranceinstituteofsouthflorida.com/course/course-life-and-health-35/
LOCATION:IISFL\, 8180 NW 36th St #201\, Miami\, FL\, 33166\, United States
CATEGORIES:Life and Health
ORGANIZER;CN="Maria Castillo":MAILTO:mariacastillo@iisfl.com
END:VEVENT
BEGIN:VEVENT
DTSTART;TZID=America/New_York:20250202T090000
DTEND;TZID=America/New_York:20250202T180000
DTSTAMP:20260424T092842
CREATED:20241210T013033Z
LAST-MODIFIED:20241210T013033Z
UID:5301-1738486800-1738519200@insuranceinstituteofsouthflorida.com
SUMMARY:End Of Course Life and Health
DESCRIPTION:
URL:https://insuranceinstituteofsouthflorida.com/course/end-of-course-life-and-health-5/
LOCATION:IISFL\, 8180 NW 36th St #201\, Miami\, FL\, 33166\, United States
CATEGORIES:Life and Health
ORGANIZER;CN="Maria Castillo":MAILTO:mariacastillo@iisfl.com
END:VEVENT
BEGIN:VEVENT
DTSTART;TZID=America/New_York:20250222T090000
DTEND;TZID=America/New_York:20250222T180000
DTSTAMP:20260424T092842
CREATED:20241210T011012Z
LAST-MODIFIED:20250131T012809Z
UID:5285-1740214800-1740247200@insuranceinstituteofsouthflorida.com
SUMMARY:Course Start Date Life and Health
DESCRIPTION:Pre-Registration Life and Health\nPlease enable JavaScript in your browser to complete this form.Name *FirstLastEmail *Phone *Custom Captcha *			\n				\n											\n						\n						\n											=\n				\n								\n				\n				\n			\n			Submit
URL:https://insuranceinstituteofsouthflorida.com/course/course-start-date-life-and-health-6/
LOCATION:IISFL\, 8180 NW 36th St #201\, Miami\, FL\, 33166\, United States
CATEGORIES:Life and Health
ORGANIZER;CN="Maria Castillo":MAILTO:mariacastillo@iisfl.com
END:VEVENT
BEGIN:VEVENT
DTSTART;TZID=America/New_York:20250223T090000
DTEND;TZID=America/New_York:20250223T180000
DTSTAMP:20260424T092842
CREATED:20250131T013407Z
LAST-MODIFIED:20250323T150019Z
UID:5310-1740301200-1740333600@insuranceinstituteofsouthflorida.com
SUMMARY:Course Life and Health
DESCRIPTION:
URL:https://insuranceinstituteofsouthflorida.com/course/course-life-and-health-36/
LOCATION:IISFL\, 8180 NW 36th St #201\, Miami\, FL\, 33166\, United States
CATEGORIES:Life and Health
ORGANIZER;CN="Maria Castillo":MAILTO:mariacastillo@iisfl.com
END:VEVENT
BEGIN:VEVENT
DTSTART;TZID=America/New_York:20250228T090000
DTEND;TZID=America/New_York:20250228T180000
DTSTAMP:20260424T092842
CREATED:20250131T013621Z
LAST-MODIFIED:20250131T014237Z
UID:5312-1740733200-1740765600@insuranceinstituteofsouthflorida.com
SUMMARY:Course Life and Health
DESCRIPTION:
URL:https://insuranceinstituteofsouthflorida.com/course/course-life-and-health-37/
LOCATION:IISFL\, 8180 NW 36th St #201\, Miami\, FL\, 33166\, United States
CATEGORIES:Life and Health
ORGANIZER;CN="Maria Castillo":MAILTO:mariacastillo@iisfl.com
END:VEVENT
END:VCALENDAR